Workbook

Sheet 총괄표
A1: 2021년도 세 입 · 세 출 총 괄 표
A3: 시설명 : 청운양로원 | J3: (단위 : 원)
A4: 세 입 | F4: 세 출
A5: 구 분 | C5: 예산액 | D5: 결산액 | E5: 증 감 | F5: 구 분 | H5: 예산액 | I5: 결산액 | J5: 증 감
A6: 합 계 | C6: =SUM(C7:C16) -> 1213957000 | D6: =SUM(D7:D16) -> 1195636696 | E6: =SUM(E7:E16) -> -18320304 | F6: 합 계 | H6: =SUM(H7:H16) -> 1213957000 | I6: =SUM(I7:I16) -> 1195636696 | J6: =SUM(J7:J16) -> -18320304
A7: 입소비용 수 입 | B7: 실비입소 비용수입 | C7: =SUM(세입결산서!H9) -> 9166000 | D7: =SUM(세입결산서!H10) -> 8319300 | E7: =SUM(세입결산서!H11) -> -846700 | F7: 사무비 | G7: 인건비 | H7: =SUM(세출결산서!H24) -> 840726000 | I7: =SUM(세출결산서!H25) -> 819160527 | J7: =SUM(I7-H7) -> -21565473
A8: 보조금 수입 | B8: 경상보조금 수입 | C8: =SUM(세입결산서!H24) -> 986219000 | D8: =SUM(세입결산서!H25) -> 987910720 | E8: =SUM(세입결산서!H26) -> 1691720 | G8: 업무추진비 | H8: =SUM(세출결산서!H33) -> 2500000 | I8: =SUM(세출결산서!H34) -> 1579383 | J8: =SUM(I8-H8) -> -920617
B9: 자본보조금 수입 | C9: =SUM(세입결산서!H30) -> 0 | D9: =SUM(세입결산서!H31) -> 0 | E9: =SUM(D9-C9) -> 0 | G9: 운영비 | H9: =SUM(세출결산서!H57) -> 46027000 | I9: =SUM(세출결산서!H58) -> 41878250 | J9: =SUM(I9-H9) -> -4148750
B10: 기타보조금 수입 | C10: =SUM(세입결산서!H39) -> 32189000 | D10: =SUM(세입결산서!H40) -> 31667000 | E10: =SUM(D10-C10) -> -522000 | F10: 재산조성비 | G10: 재산조성비 | H10: =SUM(세출결산서!H75) -> 8207000 | I10: =SUM(세출결산서!H76) -> 3913900 | J10: =SUM(I10-H10) -> -4293100
A11: 후원금 수입 | B11: 지정후원금 | C11: =SUM(세입결산서!G48) -> 1000000 | D11: =SUM(세입결산서!G49) -> 0 | E11: =SUM(D11-C11) -> -1000000 | F11: 사업비 | G11: 사업운영비 | H11: =SUM(세출결산서!H99) -> 198950000 | I11: =SUM(세출결산서!H100) -> 175324540 | J11: =SUM(I11-H11) -> -23625460
B12: 비지정후원금 | C12: =SUM(세입결산서!G51) -> 25000000 | D12: =SUM(세입결산서!G52) -> 13740256 | E12: =SUM(D12-C12) -> -11259744 | G12: 사업비 | H12: =SUM(세출결산서!H111) -> 6183000 | I12: =SUM(세출결산서!H112) -> 5122000 | J12: =SUM(I12-H12) -> -1061000
A13: 전입금 | B13: 법인전입금 | C13: =SUM(세입결산서!F60) -> 15000000 | D13: =SUM(세입결산서!F61) -> 15000000 | E13: =SUM(D13-C13) -> 0 | F13: 잡지출 | G13: 잡지출 | H13: =SUM(세출결산서!H126) -> 441000 | I13: =SUM(세출결산서!H127) -> 12000 | J13: =SUM(I13-H13) -> -429000
B14: 법인전입금 (후원금) | C14: =SUM(세입결산서!F63) -> 10000000 | D14: =SUM(세입결산서!F64) -> 5000000 | E14: =SUM(D14-C14) -> -5000000 | F14: 예비비 및 기타 | G14: 반환금 | H14: =세출결산서!H129 -> 0 | I14: =SUM(세출결산서!H130) -> 36857826 | J14: =SUM(I14-H14) -> 36857826
A15: 이월금 | B15: 이월금 | C15: =SUM(세입결산서!H84) -> 109683000 | D15: =SUM(세입결산서!H85) -> 109681990 | E15: =SUM(D15-C15) -> -1010 | G15: 예비비 | H15: =SUM(세출결산서!H132) -> 110923000 | I15: =SUM(세출결산서!H133) -> 0 | J15: =SUM(I15-H15) -> -110923000
A16: 잡수입 | B16: 잡수입 | C16: =SUM(세입결산서!H99) -> 25700000 | D16: =SUM(세입결산서!H100) -> 24317430 | E16: =SUM(D16-C16) -> -1382570 | F16: 차기이월금 | G16: 차기이월금 | H16: 0 | I16: =SUM(세출결산서!H145) -> 111788270 | J16: =SUM(I16-H16) -> 111788270

Sheet 세입결산서
A1: 세 입 결 산 서
A2: 기간 : 2021.01.01~12.31
A3: 시설명 : 청운양로원 | H3: (단위 : 원)
A4: 과 목 | D4: 구분 | E4: 정부보조금 | F4: 시설부담금 | G4: 후원금 | H4: 계
A5: 관 | B5: 항 | C5: 목
A6: 입소자 부담금 수 입 | B6: 입소비용 수 입 | C6: 실비입소 비용수입 | D6: 예산 | E6: 0 | F6: 9166000 | G6: 0 | H6: 9166000
D7: 결산 | E7: 0 | F7: 8319300 | G7: 0 | H7: 8319300
D8: 증감 | E8: 0 | F8: =SUM(F7-F6) -> -846700 | G8: 0 | H8: =SUM(E8:G8) -> -846700
C9: 계 | D9: 예산 | E9: 0 | F9: =SUM(F6) -> 9166000 | G9: 0 | H9: =SUM(E9:G9) -> 9166000
D10: 결산 | E10: 0 | F10: =SUM(F7) -> 8319300 | G10: 0 | H10: =SUM(E10:G10) -> 8319300
D11: 증감 | E11: 0 | F11: =SUM(F8) -> -846700 | G11: 0 | H11: =SUM(E11:G11) -> -846700
B12: 합 계 | D12: 예산 | E12: 0 | F12: =SUM(F9) -> 9166000 | G12: 0 | H12: =SUM(E12:G12) -> 9166000
D13: 결산 | E13: 0 | F13: =SUM(F10) -> 8319300 | G13: 0 | H13: =SUM(E13:G13) -> 8319300
D14: 증감 | E14: 0 | F14: =SUM(F11) -> -846700 | G14: 0 | H14: =SUM(E14:G14) -> -846700
A15: 보조금 수 입 | B15: 경상보조금 수 입 | C15: 인건비 | D15: 예산 | E15: 819299000 | G15: 0 | H15: =SUM(E15:G15) -> 819299000
D16: 결산 | E16: 835017000 | G16: 0 | H16: =SUM(E16:G16) -> 835017000
D17: 증감 | E17: =E16-E15 -> 15718000 | G17: =SUM(G16-G15) -> 0 | H17: =SUM(E17:G17) -> 15718000
C18: 운영비 | D18: 예산 | E18: 43567000 | G18: 0 | H18: =SUM(E18:G18) -> 43567000
D19: 결산 | E19: 43478000 | G19: 0 | H19: =SUM(E19:G19) -> 43478000
D20: 증감 | E20: =SUM(E19-E18) -> -89000 | G20: =SUM(G19-G18) -> 0 | H20: =SUM(E20:G20) -> -89000
C21: 생계비 | D21: 예산 | E21: 123353000 | G21: 0 | H21: =SUM(E21:G21) -> 123353000
D22: 결산 | E22: 109415720 | G22: 0 | H22: =SUM(E22:G22) -> 109415720
D23: 증감 | E23: =SUM(E22-E21) -> -13937280 | F23: =SUM(F22-F21) -> 0 | G23: =SUM(G22-G21) -> 0 | H23: =SUM(E23:G23) -> -13937280
C24: 계 | D24: 예산 | E24: =SUM(E15+E18+E21) -> 986219000 | F24: =SUM(F15+F18+F21) -> 0 | G24: =SUM(G15+G18+G21) -> 0 | H24: =SUM(E24:G24) -> 986219000
D25: 결산 | E25: =SUM(E16+E19+E22) -> 987910720 | F25: =SUM(F16+F19+F22) -> 0 | G25: =SUM(G16+G19+G22) -> 0 | H25: =SUM(E25:G25) -> 987910720
D26: 증감 | E26: =SUM(E17+E20+E23) -> 1691720 | F26: =SUM(F17+F20+F23) -> 0 | G26: =SUM(G17+G20+G23) -> 0 | H26: =SUM(E26:G26) -> 1691720
B27: 자본보조금 수 입 | C27: 자본보조금 수 입 | D27: 예산 | E27: 0 | F27: 0 | G27: 0 | H27: =SUM(E27:G27) -> 0
D28: 결산 | E28: 0 | F28: 0 | G28: 0 | H28: =SUM(E28:G28) -> 0
D29: 증감 | E29: =SUM(E28-E27) -> 0 | F29: 0 | G29: 0 | H29: =SUM(E29:G29) -> 0
C30: 계 | D30: 예산 | E30: =SUM(E27) -> 0 | F30: 0 | G30: 0 | H30: =SUM(E30:G30) -> 0
D31: 결산 | E31: =SUM(E28) -> 0 | F31: 0 | G31: 0 | H31: =SUM(E31:G31) -> 0
D32: 증감 | E32: =SUM(E29) -> 0 | F32: 0 | G32: 0 | H32: =SUM(E32:G32) -> 0
B33: 기타보조금 수 입 | C33: 지방자치 보조금 | D33: 예산 | E33: 4200000 | F33: 0 | G33: 0 | H33: =SUM(E33:G33) -> 4200000
D34: 결산 | E34: 4200000 | F34: 0 | G34: 0 | H34: =SUM(E34:G34) -> 4200000
D35: 증감 | E35: =SUM(E34-E33) -> 0 | F35: =SUM(F34-F33) -> 0 | G35: =SUM(G34-G33) -> 0 | H35: =SUM(E35:G35) -> 0
C36: 기타보조금 수 입 | D36: 예산 | E36: 27989000 | F36: 0 | G36: 0 | H36: =SUM(E36:G36) -> 27989000
D37: 결산 | E37: 27467000 | F37: 0 | G37: 0 | H37: =SUM(E37:G37) -> 27467000
D38: 증감 | E38: =SUM(E37-E36) -> -522000 | F38: 0 | G38: 0 | H38: =SUM(E38:G38) -> -522000
C39: 계 | D39: 예산 | E39: =SUM(E33+E36) -> 32189000 | F39: 0 | G39: 0 | H39: =SUM(E39:G39) -> 32189000
D40: 결산 | E40: =SUM(E34+E37) -> 31667000 | F40: 0 | G40: 0 | H40: =SUM(E40:G40) -> 31667000
D41: 증감 | E41: =SUM(E35+E38) -> -522000 | F41: =SUM(F35+F38) -> 0 | G41: =SUM(G35+G38) -> 0 | H41: =SUM(E41:G41) -> -522000
A42: 시설명 : 청운양로원
A43: 과 목 | D43: 구분 | E43: 정부보조금 | F43: 시설부담금 | G43: 후원금 | H43: 계
A44: 관 | B44: 항 | C44: 목
A45: 보조금 수 입 | B45: 합 계 | D45: 예산 | E45: =SUM(E24+E30+E39) -> 1018408000 | F45: =SUM(F24+F39) -> 0 | G45: =SUM(G24+G39) -> 0 | H45: =SUM(E45:G45) -> 1018408000
D46: 결산 | E46: =SUM(E25+E31+E40) -> 1019577720 | F46: =SUM(F25+F40) -> 0 | G46: =SUM(G25+G40) -> 0 | H46: =SUM(E46:G46) -> 1019577720
D47: 증감 | E47: =SUM(E26+E32+E41) -> 1169720 | F47: =SUM(F26+F41) -> 0 | G47: =SUM(G26+G41) -> 0 | H47: =SUM(E47:G47) -> 1169720
A48: 후원금 수 입 | B48: 후원금 수 입 | C48: 지 정 후원금 | D48: 예산 | E48: 0 | F48: 0 | G48: 1000000 | H48: =SUM(E48:G48) -> 1000000
D49: 결산 | E49: 0 | F49: 0 | G49: 0 | H49: =SUM(E49:G49) -> 0
D50: 증감 | E50: =SUM(E49-E48) -> 0 | F50: =SUM(F49-F48) -> 0 | G50: =SUM(G49-G48) -> -1000000 | H50: =SUM(H49-H48) -> -1000000
B51: 후원금 수 입 | C51: 비지정 후원금 | D51: 예산 | E51: 0 | F51: 0 | G51: 25000000 | H51: =SUM(E51:G51) -> 25000000
D52: 결산 | E52: 0 | F52: 0 | G52: 13740256 | H52: =SUM(E52:G52) -> 13740256
D53: 증감 | E53: =SUM(E52-E51) -> 0 | F53: =SUM(F52-F51) -> 0 | G53: =SUM(G52-G51) -> -11259744 | H53: =SUM(H52-H51) -> -11259744
C54: 계 | D54: 예산 | E54: =SUM(E48+E51) -> 0 | F54: =SUM(F48+F51) -> 0 | G54: =SUM(G48+G51) -> 26000000 | H54: =SUM(H48+H51) -> 26000000
D55: 결산 | E55: =SUM(E49+E52) -> 0 | F55: =SUM(F49+F52) -> 0 | G55: =SUM(G49+G52) -> 13740256 | H55: =SUM(H49+H52) -> 13740256
D56: 증감 | E56: =SUM(E50+E53) -> 0 | F56: =SUM(F50+F53) -> 0 | G56: =SUM(G50+G53) -> -12259744 | H56: =SUM(E56:G56) -> -12259744
B57: 합 계 | D57: 예산 | E57: =SUM(E54) -> 0 | F57: =SUM(F54) -> 0 | G57: =SUM(G54) -> 26000000 | H57: =SUM(E57:G57) -> 26000000
D58: 결산 | E58: =SUM(E55) -> 0 | F58: =SUM(F55) -> 0 | G58: =SUM(G55) -> 13740256 | H58: =SUM(E58:G58) -> 13740256
D59: 증감 | E59: =SUM(E56) -> 0 | F59: =SUM(F56) -> 0 | G59: =SUM(G56) -> -12259744 | H59: =SUM(H56) -> -12259744
A60: 전입금 | B60: 법 인 전입금 | C60: 법 인 전입금 | D60: 예산 | E60: 0 | F60: 15000000 | G60: 0 | H60: =SUM(E60:G60) -> 15000000
D61: 결산 | E61: 0 | F61: 15000000 | G61: 0 | H61: =SUM(E61:G61) -> 15000000
D62: 증감 | E62: =SUM(E61-E60) -> 0 | F62: =SUM(F61-F60) -> 0 | G62: =SUM(G61-G60) -> 0 | H62: =SUM(H61-H60) -> 0
C63: 법 인 전입금 (후원금 | D63: 예산 | E63: 0 | F63: 10000000 | G63: 0 | H63: =SUM(E63:G63) -> 10000000
D64: 결산 | E64: 0 | F64: 5000000 | G64: 0 | H64: =SUM(E64:G64) -> 5000000
D65: 증감 | E65: =SUM(E64-E63) -> 0 | F65: =SUM(F64-F63) -> -5000000 | G65: =SUM(G64-G63) -> 0 | H65: =SUM(E65:G65) -> -5000000
C66: 계 | D66: 예산 | E66: =SUM(E60) -> 0 | F66: =SUM(F60+F63) -> 25000000 | G66: =SUM(G60) -> 0 | H66: =SUM(E66:G66) -> 25000000
D67: 결산 | E67: =SUM(E61) -> 0 | F67: =SUM(F61+F64) -> 20000000 | G67: =SUM(G61) -> 0 | H67: =SUM(E67:G67) -> 20000000
D68: 증감 | E68: =SUM(E67-E66) -> 0 | F68: =SUM(F67-F66) -> -5000000 | G68: =SUM(G67-G66) -> 0 | H68: =SUM(H67-H66) -> -5000000
B69: 합 계 | D69: 예산 | E69: =SUM(E66) -> 0 | F69: =SUM(F66) -> 25000000 | G69: =SUM(G66) -> 0 | H69: =SUM(E69:G69) -> 25000000
D70: 결산 | E70: =SUM(E67) -> 0 | F70: =SUM(F67) -> 20000000 | G70: =SUM(G67) -> 0 | H70: =SUM(E70:G70) -> 20000000
D71: 증감 | E71: =SUM(E68) -> 0 | F71: =SUM(F68) -> -5000000 | G71: =SUM(G68) -> 0 | H71: =SUM(E71:G71) -> -5000000
A72: 이월금 | B72: 이월금 | C72: 전년도 이월금 | D72: 예산 | E72: 0 | F72: 799000 | G72: 0 | H72: =SUM(E72:G72) -> 799000
D73: 결산 | E73: 0 | F73: 798727 | H73: =SUM(E73:G73) -> 798727
D74: 증감 | E74: =E73-E72 -> 0 | F74: =SUM(F73-F72) -> -273 | H74: =SUM(E74:G74) -> -273
C75: 전년도 이월금 (후원금) | D75: 예산 | E75: 0 | F75: 0 | G75: 108884000 | H75: =SUM(E75:G75) -> 108884000
D76: 결산 | E76: 0 | G76: 108883263 | H76: =SUM(E76:G76) -> 108883263
D77: 증감 | E77: =E76-E75 -> 0 | G77: =SUM(G76-G75) -> -737 | H77: =SUM(E77:G77) -> -737
C78: 이 월 사업비 | D78: 예산 | E78: =E77-E76 -> 0 | F78: 0 | G78: 0 | H78: =SUM(E78:G78) -> 0
D79: 결산 | E79: =E78-E77 -> 0 | F79: 0 | G79: 0 | H79: =SUM(E79:G79) -> 0
D80: 증감 | E80: =E79-E78 -> 0 | F80: =F79-F78 -> 0 | G80: =G79-G78 -> 0 | H80: =SUM(E80:G80) -> 0
A81: 시설명 : 청운양로원 | H81: (단위 : 원)
A82: 과 목 | D82: 구분 | E82: 정부보조금 | F82: 시설부담금 | G82: 후원금 | H82: 계
A83: 관 | B83: 항 | C83: 목
A84: 이월금 | B84: 이월금 | C84: 계 | D84: 예산 | E84: =SUM(E72+E78) -> 0 | F84: =SUM(F72+F75+F78) -> 799000 | G84: =SUM(G72+G75+G78) -> 108884000 | H84: =SUM(E84:G84) -> 109683000
D85: 결산 | E85: =SUM(E73+E79) -> 0 | F85: =SUM(F73+F76+F79) -> 798727 | G85: =SUM(G73+G76+G79) -> 108883263 | H85: =SUM(E85:G85) -> 109681990
D86: 증감 | E86: =SUM(E74+E80) -> 0 | F86: =SUM(F74+F77+F80) -> -273 | G86: =SUM(G74+G77+G80) -> -737 | H86: =SUM(E86:G86) -> -1010
B87: 합 계 | D87: 예산 | E87: =SUM(E84) -> 0 | F87: =SUM(F84) -> 799000 | G87: =SUM(G84) -> 108884000 | H87: =SUM(E87:G87) -> 109683000
D88: 결산 | E88: =SUM(E85) -> 0 | F88: =SUM(F85) -> 798727 | G88: =SUM(G85) -> 108883263 | H88: =SUM(E88:G88) -> 109681990
D89: 증감 | E89: =SUM(E88-E87) -> 0 | F89: =SUM(F88-F87) -> -273 | G89: =SUM(G88-G87) -> -737 | H89: =SUM(H88-H87) -> -1010
A90: 잡수입 | B90: 잡수입 | C90: 불용품 매각대 | D90: 예산 | E90: 0 | F90: =100000 -> 100000 | G90: 0 | H90: =SUM(E90:G90) -> 100000
D91: 결산 | E91: 0 | F91: 0 | G91: 0 | H91: =SUM(E91:G91) -> 0
D92: 증감 | E92: =SUM(E91-E90) -> 0 | F92: =SUM(F91-F90) -> -100000 | G92: =SUM(G91-G90) -> 0 | H92: =SUM(H91-H90) -> -100000
C93: 기타예금 이자수입 | D93: 예산 | E93: 0 | F93: =600000 -> 600000 | G93: 0 | H93: =SUM(E93:G93) -> 600000
D94: 결산 | E94: 0 | F94: 498065 | G94: 0 | H94: =SUM(E94:G94) -> 498065
D95: 증감 | E95: =SUM(E94-E93) -> 0 | F95: =SUM(F94-F93) -> -101935 | G95: =SUM(G94-G93) -> 0 | H95: =SUM(H94-H93) -> -101935
C96: 기 타 잡수입 | D96: 예산 | E96: 0 | F96: 25000000 | H96: =SUM(E96:G96) -> 25000000
D97: 결산 | E97: 0 | F97: 23819365 | H97: =SUM(E97:G97) -> 23819365
D98: 증감 | E98: =SUM(E97-E96) -> 0 | F98: =SUM(F97-F96) -> -1180635 | H98: =SUM(E98:G98) -> -1180635
C99: 계 | D99: 예산 | E99: =SUM(E90+E93+E96) -> 0 | F99: =SUM(F90+F93+F96) -> 25700000 | G99: =SUM(G90+G93+G96) -> 0 | H99: =SUM(H90+H93+H96) -> 25700000
D100: 결산 | E100: =SUM(E91+E94+E97) -> 0 | F100: =SUM(F91+F94+F97) -> 24317430 | G100: =SUM(G91+G94+G97) -> 0 | H100: =SUM(H91+H94+H97) -> 24317430
...

Sheet 세출결산서
A1: 세 출 결 산 서
A2: 기간 : 2021.01.01~12.31
A3: 시설명 : 청운양로원 | H3: (단위 : 원)
A4: 과 목 | D4: 구분 | E4: 보조금 | F4: 시설부담금 | G4: 후원금 | H4: 계
A5: 관 | B5: 항 | C5: 목
A6: 사무비 | B6: 인건비 | C6: 급 여 | D6: 예산 | E6: 478930000 | F6: 5600000 | G6: 0 | H6: =SUM(E6:G6) -> 484530000
D7: 결산 | E7: 472598030 | F7: 5599880 | G7: 0 | H7: =SUM(E7:G7) -> 478197910
D8: 증감 | E8: =SUM(E7-E6) -> -6331970 | F8: =SUM(F7-F6) -> -120 | G8: =SUM(G7-G6) -> 0 | H8: =SUM(E8:G8) -> -6332090
C9: 상여금 | D9: 예산 | E9: 0 | F9: 0 | G9: 0 | H9: =SUM(E9:G9) -> 0
D10: 결산 | E10: 0 | F10: 0 | G10: 0 | H10: =SUM(E10:G10) -> 0
D11: 증감 | E11: =SUM(E10-E9) -> 0 | F11: =SUM(F10-F9) -> 0 | G11: =SUM(G10-G9) -> 0 | H11: =SUM(E11:G11) -> 0
C12: 제수당 | D12: 예산 | E12: 216328000 | F12: 7214000 | G12: 0 | H12: =SUM(E12:G12) -> 223542000
D13: 결산 | E13: 208194180 | F13: 7148758 | G13: 0 | H13: =SUM(E13:G13) -> 215342938
D14: 증감 | E14: =SUM(E13-E12) -> -8133820 | F14: =SUM(F13-F12) -> -65242 | G14: =SUM(G13-G12) -> 0 | H14: =SUM(E14:G14) -> -8199062
C15: 퇴직금 및 퇴직적립금 | D15: 예산 | E15: 58408000 | F15: 367000 | G15: 0 | H15: =SUM(E15:G15) -> 58775000
D16: 결산 | E16: 56646720 | F16: 361100 | G16: 0 | H16: =SUM(E16:G16) -> 57007820
D17: 증감 | E17: =SUM(E16-E15) -> -1761280 | F17: =SUM(F16-F15) -> -5900 | G17: =SUM(G16-G15) -> 0 | H17: =SUM(E17:G17) -> -1767180
C18: 사회보험 부담비용 | D18: 예산 | E18: 65633000 | F18: 326000 | G18: 0 | H18: =SUM(E18:G18) -> 65959000
D19: 결산 | E19: 62257650 | F19: 26570 | G19: 0 | H19: =SUM(E19:G19) -> 62284220
D20: 증감 | E20: =SUM(E19-E18) -> -3375350 | F20: =SUM(F19-F18) -> -299430 | G20: =SUM(G19-G18) -> 0 | H20: =SUM(E20:G20) -> -3674780
C21: 기 타 후생경비 | D21: 예산 | E21: 4920000 | F21: 3000000 | G21: 0 | H21: =SUM(E21:G21) -> 7920000
D22: 결산 | E22: 4753000 | F22: 1574639 | H22: =SUM(E22:G22) -> 6327639
D23: 증감 | E23: =SUM(E22-E21) -> -167000 | F23: =SUM(F22-F21) -> -1425361 | G23: =SUM(G22-G21) -> 0 | H23: =SUM(E23:G23) -> -1592361
C24: 계 | D24: 예산 | E24: =SUM(E6+E9+E12+E15+E18+E21) -> 824219000 | F24: =SUM(F6+F9+F12+F15+F18+F21) -> 16507000 | G24: =SUM(G6+G9+G12+G15+G18+G21) -> 0 | H24: =SUM(E24:G24) -> 840726000
D25: 결산 | E25: =SUM(E7+E10+E13+E16+E19+E22) -> 804449580 | F25: =SUM(F7+F10+F13+F16+F19+F22) -> 14710947 | G25: =SUM(G7+G10+G13+G16+G19+G22) -> 0 | H25: =SUM(E25:G25) -> 819160527
D26: 증감 | E26: =SUM(E25-E24) -> -19769420 | F26: =SUM(F25-F24) -> -1796053 | G26: =SUM(G25-G24) -> 0 | H26: =SUM(E26:G26) -> -21565473
B27: 업무추진비 | C27: 기관운영비 | D27: 예산 | E27: 0 | F27: 1000000 | G27: 0 | H27: =SUM(E27:G27) -> 1000000
D28: 결산 | E28: 0 | F28: 272383 | G28: 0 | H28: =SUM(E28:G28) -> 272383
D29: 증감 | E29: =SUM(E28-E27) -> 0 | F29: =SUM(F28-F27) -> -727617 | G29: =SUM(G28-G27) -> 0 | H29: =SUM(E29:G29) -> -727617
C30: 회의비 | D30: 예산 | E30: 0 | F30: 1500000 | G30: 0 | H30: =SUM(E30:G30) -> 1500000
D31: 결산 | E31: 0 | F31: 1307000 | G31: 0 | H31: =SUM(E31:G31) -> 1307000
D32: 증감 | E32: =SUM(E31-E30) -> 0 | F32: =SUM(F31-F30) -> -193000 | G32: =SUM(G31-G30) -> 0 | H32: =SUM(E32:G32) -> -193000
C33: 계 | D33: 예산 | E33: =SUM(E27+E30) -> 0 | F33: =SUM(F27+F30) -> 2500000 | G33: =SUM(G27+G30) -> 0 | H33: =SUM(H27+H30) -> 2500000
D34: 결산 | E34: =SUM(E28+E31) -> 0 | F34: =SUM(F28+F31) -> 1579383 | G34: =SUM(G28+G31) -> 0 | H34: =SUM(H28+H31) -> 1579383
D35: 증감 | E35: =SUM(E29+E32) -> 0 | F35: =SUM(F29+F32) -> -920617 | G35: =SUM(G29+G32) -> 0 | H35: =SUM(H29+H32) -> -920617
B36: 운영비 | C36: 여 비 | D36: 예산 | E36: 0 | F36: 100000 | G36: 50000 | H36: =SUM(E36:G36) -> 150000
D37: 결산 | E37: 0 | F37: 84600 | G37: 0 | H37: =SUM(E37:G37) -> 84600
D38: 증감 | E38: =SUM(E37-E36) -> 0 | F38: =SUM(F37-F36) -> -15400 | G38: =SUM(G37-G36) -> -50000 | H38: =SUM(E38:G38) -> -65400
A39: 시설명 : 청운양로원 | H39: (단위 : 원)
A40: 과 목 | D40: 구분 | E40: 보조금 | F40: 시설부담금 | G40: 후원금 | H40: 계
A41: 관 | B41: 항 | C41: 목
B42: 운영비 | C42: 수용비 및 수수료 | D42: 예산 | E42: 12817000 | F42: 2600000 | G42: 2720000 | H42: =SUM(E42:G42) -> 18137000
D43: 결산 | E43: 12317030 | F43: 2357830 | G43: 2264630 | H43: =SUM(E43:G43) -> 16939490
D44: 증감 | E44: =SUM(E43-E42) -> -499970 | F44: =SUM(F43-F42) -> -242170 | G44: =SUM(G43-G42) -> -455370 | H44: =SUM(E44:G44) -> -1197510
C45: 공공요금 | D45: 예산 | E45: 9270000 | F45: 3500000 | G45: 5780000 | H45: =SUM(E45:G45) -> 18550000
D46: 결산 | E46: 9196270 | F46: 3399260 | G46: 5444390 | H46: =SUM(E46:G46) -> 18039920
D47: 증감 | E47: =SUM(E46-E45) -> -73730 | F47: =SUM(F46-F45) -> -100740 | G47: =SUM(G46-G45) -> -335610 | H47: =SUM(E47:G47) -> -510080
C48: 제세공과금 | D48: 예산 | E48: 2760000 | F48: 0 | G48: 500000 | H48: =SUM(E48:G48) -> 3260000
D49: 결산 | E49: 2656960 | F49: 0 | G49: 445200 | H49: =SUM(E49:G49) -> 3102160
D50: 증감 | E50: =SUM(E49-E48) -> -103040 | F50: =SUM(F49-F48) -> 0 | G50: =SUM(G49-G48) -> -54800 | H50: =SUM(E50:G50) -> -157840
C51: 차량비 | D51: 예산 | E51: 1400000 | F51: 770000 | G51: 830000 | H51: =SUM(E51:G51) -> 3000000
D52: 결산 | E52: 1400000 | F52: 0 | G52: 0 | H52: =SUM(E52:G52) -> 1400000
D53: 증감 | E53: =SUM(E52-E51) -> 0 | F53: =SUM(F52-F51) -> -770000 | G53: =SUM(G52-G51) -> -830000 | H53: =SUM(E53:G53) -> -1600000
C54: 기타운영비 | D54: 예산 | E54: 330000 | F54: 2200000 | G54: 400000 | H54: =SUM(E54:G54) -> 2930000
D55: 결산 | E55: 323000 | F55: 1989080 | G55: 0 | H55: =SUM(E55:G55) -> 2312080
D56: 증감 | E56: =SUM(E55-E54) -> -7000 | F56: =SUM(F55-F54) -> -210920 | G56: =SUM(G55-G54) -> -400000 | H56: =SUM(E56:G56) -> -617920
C57: 계 | D57: 예산 | E57: =SUM(E36+E42+E45+E48+E51+E54) -> 26577000 | F57: =SUM(F36+F42+F45+F48+F51+F54) -> 9170000 | G57: =SUM(G36+G42+G45+G48+G51+G54) -> 10280000 | H57: =SUM(H36+H42+H45+H48+H51+H54) -> 46027000
D58: 결산 | E58: =SUM(E37+E43+E46+E49+E52+E55) -> 25893260 | F58: =SUM(F37+F43+F46+F49+F52+F55) -> 7830770 | G58: =SUM(G37+G43+G46+G49+G52+G55) -> 8154220 | H58: =SUM(H37+H43+H46+H49+H52+H55) -> 41878250
D59: 증감 | E59: =SUM(E38+E44+E47+E50+E53+E56) -> -683740 | F59: =SUM(F38+F44+F47+F50+F53+F56) -> -1339230 | G59: =SUM(G38+G44+G47+G50+G53+G56) -> -2125780 | H59: =SUM(H38+H44+H47+H50+H53+H56) -> -4148750
B60: 합 계 | D60: 예산 | E60: =SUM(E24+E33+E57) -> 850796000 | F60: =SUM(F24+F33+F57) -> 28177000 | G60: =SUM(G24+G33+G57) -> 10280000 | H60: =SUM(E60:G60) -> 889253000
D61: 결산 | E61: =SUM(E25+E34+E58) -> 830342840 | F61: =SUM(F25+F34+F58) -> 24121100 | G61: =SUM(G25+G34+G58) -> 8154220 | H61: =SUM(H25+H34+H58) -> 862618160
D62: 증감 | E62: =SUM(E26+E35+E59) -> -20453160 | F62: =SUM(F26+F35+F59) -> -4055900 | G62: =SUM(G26+G35+G59) -> -2125780 | H62: =SUM(H26+H35+H59) -> -26634840
A63: 재 산 조성비 | B63: 시설비 | C63: 시설비 | D63: 예산 | F63: 579000 | G63: 810000 | H63: =SUM(E63:G63) -> 1389000
D64: 결산 | G64: 0 | H64: =SUM(E64:G64) -> 0
D65: 증감 | E65: =SUM(E64-E63) -> 0 | F65: =SUM(F64-F63) -> -579000 | G65: =SUM(G64-G63) -> -810000 | H65: =SUM(E65:G65) -> -1389000
C66: 자산취득비 | D66: 예산 | E66: 318000 | G66: 500000 | H66: =SUM(E66:G66) -> 818000
D67: 결산 | E67: 318000 | G67: 0 | H67: =SUM(E67:G67) -> 318000
D68: 증감 | E68: =SUM(E67-E66) -> 0 | F68: =SUM(F67-F66) -> 0 | G68: =SUM(G67-G66) -> -500000 | H68: =SUM(E68:G68) -> -500000
C69: 시설장비 유지비 | D69: 예산 | E69: 2000000 | F69: 2000000 | G69: 2000000 | H69: =SUM(E69:G69) -> 6000000
D70: 결산 | E70: 1989900 | G70: 1606000 | H70: =SUM(E70:G70) -> 3595900
D71: 증감 | G71: =SUM(G70-G69) -> -394000 | H71: =SUM(E71:G71) -> -394000
C72: 계 | D72: 예산 | E72: =SUM(E63+E66+E69) -> 2318000 | F72: =SUM(F63+F66+F69) -> 2579000 | G72: =SUM(G63+G66+G69) -> 3310000 | H72: =SUM(E72:G72) -> 8207000
D73: 결산 | E73: =SUM(E64+E67+E70) -> 2307900 | F73: =SUM(F64+F67+F70) -> 0 | G73: =SUM(G64+G67+G70) -> 1606000 | H73: =SUM(E73:G73) -> 3913900
D74: 증감 | E74: =SUM(E71,E68,E65) -> 0 | F74: =SUM(F71,F68,F65) -> -579000 | G74: =SUM(G71,G68,G65) -> -1704000 | H74: =SUM(E74:G74) -> -2283000
B75: 합 계 | D75: 예산 | E75: =SUM(E72) -> 2318000 | F75: =SUM(F72) -> 2579000 | G75: =SUM(G72) -> 3310000 | H75: =SUM(E75:G75) -> 8207000
D76: 결산 | E76: =SUM(E73) -> 2307900 | F76: =SUM(F73) -> 0 | G76: =SUM(G73) -> 1606000 | H76: =SUM(E76:G76) -> 3913900
D77: 증감 | E77: =SUM(E74) -> 0 | F77: =SUM(F74) -> -579000 | G77: =SUM(G74) -> -1704000 | H77: =SUM(E77:G77) -> -2283000
A78: 시설명 : 청운양로원 | H78: (단위 : 원)
A79: 과 목 | D79: 구분 | E79: 보조금 | F79: 시설부담금 | G79: 후원금 | H79: 계
A80: 관 | B80: 항 | C80: 목
A81: 사업비 | B81: 사 업 운영비 | C81: 생계비 | D81: 예산 | E81: 142926000 | F81: 26147000 | G81: 2757000 | H81: =SUM(E81:G81) -> 171830000
D82: 결산 | E82: 128862720 | F82: 22802300 | G82: 843920 | H82: =SUM(E82:G82) -> 152508940
D83: 증감 | E83: =SUM(E82-E81) -> -14063280 | F83: =SUM(F82-F81) -> -3344700 | G83: =SUM(G82-G81) -> -1913080 | H83: =SUM(E83:G83) -> -19321060
C84: 수용기관 경 비 | D84: 예산 | E84: 0 | F84: 0 | G84: 500000 | H84: =SUM(E84:G84) -> 500000
D85: 결산 | E85: 0 | F85: 0 | G85: 0 | H85: =SUM(E85:G85) -> 0
D86: 증감 | E86: =SUM(E85-E84) -> 0 | F86: =SUM(F85-F84) -> 0 | G86: =SUM(G85-G84) -> -500000 | H86: =SUM(E86:G86) -> -500000
C87: 피복비 | D87: 예산 | E87: 2700000 | F87: 0 | G87: 110000 | H87: =SUM(E87:G87) -> 2810000
D88: 결산 | E88: 2500000 | F88: 0 | G88: 106500 | H88: =SUM(E88:G88) -> 2606500
D89: 증감 | E89: =SUM(E88-E87) -> -200000 | F89: =SUM(F88-F87) -> 0 | G89: =SUM(G88-G87) -> -3500 | H89: =SUM(E89:G89) -> -203500
C90: 의료비 | D90: 예산 | E90: 415000 | F90: 332000 | G90: 850000 | H90: =SUM(E90:G90) -> 1597000
D91: 결산 | E91: 410450 | F91: 0 | G91: 720000 | H91: =SUM(E91:G91) -> 1130450
D92: 증감 | E92: =SUM(E91-E90) -> -4550 | F92: =SUM(F91-F90) -> -332000 | G92: =SUM(G91-G90) -> -130000 | H92: =SUM(E92:G92) -> -466550
C93: 장의비 | D93: 예산 | E93: 800000 | F93: 0 | G93: 0 | H93: =SUM(E93:G93) -> 800000
D94: 결산 | E94: 0 | F94: 0 | G94: 0 | H94: =SUM(E94:G94) -> 0
D95: 증감 | E95: =SUM(E94-E93) -> -800000 | F95: =SUM(F94-F93) -> 0 | G95: =SUM(G94-G93) -> 0 | H95: =SUM(E95:G95) -> -800000
C96: 연료비 | D96: 예산 | E96: 13270000 | F96: 2400000 | G96: 5743000 | H96: =SUM(E96:G96) -> 21413000
D97: 결산 | E97: 13251390 | F97: 411920 | G97: 5415340 | H97: =SUM(E97:G97) -> 19078650
D98: 증감 | E98: =SUM(E97-E96) -> -18610 | F98: =SUM(F97-F96) -> -1988080 | G98: =SUM(G97-G96) -> -327660 | H98: =SUM(E98:G98) -> -2334350
C99: 계 | D99: 예산 | E99: =SUM(E81+E84+E87+E90+E93+E96) -> 160111000 | F99: =SUM(F81+F84+F87+F90+F93+F96) -> 28879000 | G99: =SUM(G81+G84+G87+G90+G93+G96) -> 9960000 | H99: =SUM(E99:G99) -> 198950000
D100: 결산 | E100: =SUM(E82+E85+E88+E91+E94+E97) -> 145024560 | F100: =SUM(F82+F85+F88+F91+F94+F97) -> 23214220 | G100: =SUM(G82+G85+G88+G91+G94+G97) -> 7085760 | H100: =SUM(E100:G100) -> 175324540
...

Sheet 과목전용조서
A1: 과 목 전 용 조 서
A3: 기간 : 2021.01.01~12.31
A4: 시설명 : 청운양로원 | H4: (단위 : 원)
A5: 과 목 | D5: 전용 월일 | E5: 예산액 (1) | F5: 전용액 (2) | G5: 예산현액 (1+2=3) | H5: 지출액 (4) | I5: 불용액 (3-4) | J5: 전용사유
A6: 관 | B6: 항 | C6: 목
D7: 해당사항없음.

Sheet 예비비사용조서
A1: 예 비 비 사 용 조 서
A3: 기간 : 2021.01.01~12.31
A4: 시설명 : 청운양로원 | D4: (단위 : 원)
A5: 사용일자 | B5: 금 액 | C5: 사 유 | D5: 사용 내역 | E5: 비 고
C6: 해 당 사 항 없 음

Sheet 기본재산수입명세서
A1: 기 본 재 산 수 입 명 세 서
A3: 기간 : 2021.01.01~12.31
A4: 시설명 : 청운양로원 | F4: (단위 : 원)
A5: 재산종류 | B5: 수량 | C5: 평가액 | D5: 수입액 | E5: 산출기초 | F5: 운영방법
C6: 해 당 사 항 | D6: 없 음

Sheet 후원금
A1: 후원금수입명세 및 사용결과보고서
A3: 기간 : 2021.01.01~12.31
A4: 시설명 : 청운양로원 | G4: (단위 : 원)
A5: 세 입 | E5: 세 출
A6: 과 목 | D6: 금액 | E6: 과 목 | H6: 금액
A7: 관 | B7: 항 | C7: 목 | E7: 관 | F7: 항 | G7: 목
A8: 후원금수입 | B8: 후원금수입 | C8: 지정후원금 | D8: 0 | E8: 사무비 | F8: 운영비 | G8: 수용비 및 수수료 | H8: 2264630
C9: 비지정후원금 | D9: 13740256 | G9: 공공요금 | H9: 5444390
A10: 이월금 | B10: 이월금 | C10: 전년도이월금 (지정후원금) | D10: 900000 | G10: 제세공과금 | H10: 445200
C11: 전년도이월금 (비지정후원금) | D11: 107983263 | G11: 차량비 | H11: 0
G12: 기타운영비 | H12: 0
G13: 소 계 | H13: =SUM(H8:H12) -> 8154220
E14: 재산조성비 | F14: 시설비 | G14: 자산취득비 | H14: 0
G15: 시설장비 유지비 | H15: 1606000
G16: 소 계 | H16: =SUM(H14:H15) -> 1606000
E17: 사업비 | F17: 운영비 | G17: 생계비 | H17: 843920
G18: 의료비 | H18: 720000
G19: 수용기관경비 | H19: 0
G20: 피복비 | H20: 106500
G21: 연료비 | H21: 5415340
G22: 소 계 | H22: =SUM(H17:H21) -> 7085760
F23: 사업비 | G23: 교육재활 사업비 | H23: 0
G24: 프로그램 사업비 | H24: 0
G25: 소 계 | H25: =SUM(H23:H24) -> 0
A26: 합 계 | D26: =SUM(D8:D22) -> 122623519 | E26: 합 계 | H26: =SUM(H25,H22,H16,H13) -> 16845980

Sheet 정부보조금1
A1: 정 부 보 조 금 수 입 명 세 서
A3: 기간 : 2021.01.01~12.31
A4: 시설명 : 청운양로원 | F4: (단위 : 원)
A5: 과 목 | E5: 금액 | F5: 비고
A6: 관 | B6: 항 | C6: 목 | D6: 세목
A7: 보조금수입 | B7: 경상보조금수입 | C7: 인건비 | D7: 기본급 | E7: 484777000 | F7: 15명
D8: 명절휴가비 | E8: 49287000 | F8: 설, 추석 기본급의 60%
D9: 시간외 수당 | E9: 84195000
D10: 가족수당 | E10: 9793000
D11: 퇴직적립금 | E11: 58780000
D12: 국민연금 | E12: 30808010
D13: 건강보험 | E13: 27652275
D14: 고용보험 | E14: 7585835
D15: 산재보험 | E15: 4673140
D16: 급여차액보전수당 | E16: 77465740
D17: 소 계 | E17: =SUM(E7:E16) -> 835017000
C18: 운영비 | D18: 일반운영비 | E18: 38356000
D19: 프로그램사업비 | E19: 5122000
D20: 소 계 | E20: =SUM(E18:E19) -> 43478000
C21: 생계비 | D21: 주.부식 피복비 | E21: 104195720
D22: 월동대책비 | E22: 1320000
D23: 장의비 | E23: 0
D24: 특별위로비 | E24: 3900000 | F24: 설, 추석
D25: 소 계 | E25: =SUM(E21:E24) -> 109415720
C26: 계 | E26: =SUM(E25,E20,E17) -> 987910720
B27: 자본보조금수입 | C27: 자본보조금수입 | D27: 자본보조금 | E27: 0
D28: 소 계 | E28: =E27 -> 0
B29: 기타보조금수입 | C29: 지방자치보조금 | D29: 춘계부식비 | E29: 308000 | F29: 7,000원×44명
D30: 김장비 | E30: 245000 | F30: 7,000원×35명
D32: 소 계 | E32: =SUM(E29:E30) -> 553000
C33: 기타보조금수입 | D33: 기타보조금수입 | E33: 27467000 | F33: 식대추가지원금 연말 위문금 복지포인트 외
D34: 소 계 | E34: =SUM(E33) -> 27467000
C35: 계 | E35: =SUM(E28+E32+E34) -> 28020000
B36: 합 계 | E36: =SUM(E35,E26) -> 1015930720

Sheet 인건비명세서
A1: 인 건 비 명 세 서
A3: 기간 : 2021.01.01~12.31
A4: 시설명 : 청운양로원 | D4: (단위 : 원)
A5: 구 분 | C5: 금 액 | D5: 산 출 내 역
A6: 급 여 | B6: 기본급 | C6: 478197910 | D6: 총15명 기본급여
B7: 계 | C7: =SUM(C6) -> 478197910
B8: 명절휴가비 | C8: 48123600 | D8: 설,추석 기본급의 60%씩 지급
B9: 연장근로수당 | C9: 75265380 | D9: 15시간~40시간
B10: 직책수당 | C10: 4334940 | D10: 원장 월200,000원 국장 월100,000원 사무원 월 200,000 - 자부담
B11: 가족수당 | C11: 9492920 | D11: 배우자 월40,000원, 직계가족 월20,000~100,000원
B12: 급여차액보전수당 | C12: 75312280
B13: 연차수당 | C13: 2813818
B14: 계 | C14: =SUM(C8:C13) -> 215342938
A15: 퇴직금 및 퇴직적립금 | B15: 퇴직적립금 | C15: 57007820 | D15: 임금총액의 1/12 퇴직연금가입
B16: 계 | C16: =SUM(C15) -> 57007820
A17: 사회보험 부담비용 | B17: 국민연금 | C17: 24896080
B18: 건강보험료 | C18: 25884050
B19: 고용보험료 | C19: 7130530
B20: 산재보험료 | C20: 4373560
B21: 계 | C21: =SUM(C17:C20) -> 62284220
A22: 기타 후생경비 | B22: 기타후생경비 | C22: 2024639 | D22: 조리원건강진단비, 직원명절선물, 정년퇴직자포상금
B23: 복지포인트 | C23: 4303000
B24: 계 | C24: =SUM(C22:C23) -> 6327639
A25: 합 계 | C25: =SUM(C24,C21,C16,C14,C7) -> 819160527

Sheet 사업비명세서
A1: 사 업 비 명 세 서
A3: 기간 : 2021.01.01~12.31
A4: 시설명 : 청운양로원 | E4: (단위 : 원)
A5: 구 분 | B5: 내 역 | C5: 금 액 | D5: 산 출 내 역
A6: 사업운영비 | B6: 생계비 | C6: =SUM(E6:E11) -> 152508940 | D6: 주식비(쌀,잡곡구입) | E6: 9070270
D7: 부식비(부식류구입) | E7: 115785890
D8: 특별부식비(우유, 간식외) | E8: 17489780
D9: 장대금(춘계부식비) | E9: 308000
D10: 김장비 | E10: 245000
D11: 특별위로비(설, 추석 어르신통장입금) | E11: 9610000
B12: 피복비 | C12: =SUM(E12) -> 2606500 | D12: 피복구입비 | E12: 2606500
B13: 의료비 | C13: =SUM(E13:E16) -> 1130450 | D13: 병원비 | E13: 720000
D14: 의약품구입비 | E14: 235000
D15: 의료용품구입비 | E15: 175450
D16: 간병비 | E16: 0
B17: 장의비 | C17: =SUM(E17) -> 0 | E17: 0
B18: 연료비 | C18: =SUM(E18:E19) -> 19078650 | D18: 난방연료비 (도시가스) | E18: 16648650
D19: 취사용연료비 | E19: 2430000
B20: 계 | C20: =SUM(C6:C19) -> 175324540
A21: 사업비 | B21: 교육재활사업비 | C21: 500000 | D21: 교육재활프로그램 재료비 | E21: 500000
B22: 프로그램사업비 | C22: 4622000 | D22: 문화활동비, 행사비 | E22: 4622000
B23: 계 | C23: =SUM(C21:C22) -> 5122000
A24: 합 계 | C24: =SUM(C20+C23) -> 180446540

Sheet 기타비용명세서
A1: 기 타 비 용 명 세 서
A3: 기간 : 2021.01.01~12.31
A4: 시설명 : 청운양로원 | E4: (단위 : 원)
A5: 구 분 | B5: 내 역 | C5: 금 액 | D5: 산 출 내 역
A6: 업무추진비 | B6: 기관운영비 | C6: 272383 | D6: 경조비, 회식비, 꽃다발 외
B7: 회의비 | C7: 1307000 | D7: 차류 구입비
B8: 계 | C8: =SUM(C6:C7) -> 1579383
A9: 운영비 | B9: 여비 | C9: 84600 | D9: 시내.외 교통비
B10: 수용비 및 수수료 | C10: =SUM(E10:E14) -> 16939490 | D10: 소모품,사무용품 구입비 | E10: 4809560
D11: 탁상용카렌다, 소식지 인쇄 외 | E11: 907500
D12: 공고료및수수료(승강기,포콤,정수기, 복사기,방역,전산프로그램 등) | E12: 10309780
D13: 우편료 및 운송료 | E13: 40000
D14: 소규모수선 및 기타수리비 | E14: 872650
B15: 공공요금 | C15: =SUM(E15:E18) -> 18039920 | D15: 통신비 | E15: 828640
D16: 전기요금 | E16: 8659520
D17: 상.하수도 요금 | E17: 6697990
D18: 오물수거료 | E18: 1853770
B19: 제세공과금 | C19: =SUM(E19:E21) -> 3102160 | D19: 제세공과금,환경개선부담금 등 | E19: 134050
D20: 협회회비 | E20: 1560000
D21: 차량, 화재, 가스, 영업배상보험료 등 | E21: 1408110
B22: 차량비 | C22: 1400000 | D22: 차량유류대, 수리비 등
B23: 기타운영비 | C23: 2312080 | D23: 직원교육비, 연수비
B24: 계 | C24: =SUM(C9:C23) -> 41878250
A25: 시설비 | B25: 시설비 | C25: =SUM(E25:E25) -> 0 | E25: 0
B26: 자산취득비 | C26: =SUM(E26:E26) -> 318000 | D26: 비접촉체온계 | E26: 318000
B27: 시설장비유지비 | C27: =SUM(E27:E30) -> 3595900 | D27: 수도설비외 공사 | E27: 1217700
D28: 승강기도어컨트롤러교체 | E28: 607200
D29: 소방시설보수공사 | E29: 165000
D30: 보일러외 수리 | E30: 1606000
B31: 계 | C31: =SUM(C25:C30) -> 3913900
A32: 합 계 | C32: =SUM(C8+C24+C31) -> 47371533
